BEGIN:VCALENDAR
VERSION:2.0
PRODID:-//KiG! - ECPv5.8.1//NONSGML v1.0//EN
CALSCALE:GREGORIAN
METHOD:PUBLISH
X-WR-CALNAME:KiG!
X-ORIGINAL-URL:https://kulturingraz.mur.at
X-WR-CALDESC:Veranstaltungen für KiG!
BEGIN:VTIMEZONE
TZID:Europe/Berlin
BEGIN:DAYLIGHT
TZOFFSETFROM:+0100
TZOFFSETTO:+0200
TZNAME:CEST
DTSTART:20030330T010000
END:DAYLIGHT
BEGIN:STANDARD
TZOFFSETFROM:+0200
TZOFFSETTO:+0100
TZNAME:CET
DTSTART:20031026T010000
END:STANDARD
END:VTIMEZONE
BEGIN:VEVENT
DTSTART;VALUE=DATE:20030629
DTEND;VALUE=DATE:20030701
DTSTAMP:20260419T175301
CREATED:20190116T130646Z
LAST-MODIFIED:20250807T142657Z
UID:13369-1056852000-1056938399@kulturingraz.mur.at
SUMMARY:Zweiter Grazer Kulturflohmarkt
DESCRIPTION:Am 29.06.2003 fand der Zweite Grazer Kulturflohmarkt\, initiiert und organisiert von KiG!\, am Griesplatz statt. \nInfostände und Präsentationsflächen für Kunstschaffende belebten den Platz\, der bislang von den AnrainerInnen als öde Betonsteinwüste wahrgenommen wurde und im Jahr 2003 auch vom Projekt real utopia vom Verein <rotor> bespielt wurde. Der Ort wurde an diesem Tag zu einem interkulturellen und internationalen soziokulturellen Treffpunkt für alle Generationen. \n 
URL:https://kulturingraz.mur.at/event/zweiter-grazer-kulturflohmarkt/
LOCATION:Griesplatz\, Griesplatz\, Graz\, Steiermark\, 8020\, Österreich
CATEGORIES:Highlight,Präsentation
ATTACH;FMTTYPE=image/jpeg:https://kulturingraz.mur.at/wp-content/uploads/2019/01/oskar1-1.jpg
END:VEVENT
END:VCALENDAR