BEGIN:VCALENDAR
VERSION:2.0
PRODID:-//KiG! - ECPv5.8.1//NONSGML v1.0//EN
CALSCALE:GREGORIAN
METHOD:PUBLISH
X-WR-CALNAME:KiG!
X-ORIGINAL-URL:https://kulturingraz.mur.at
X-WR-CALDESC:Veranstaltungen für KiG!
BEGIN:VTIMEZONE
TZID:Europe/Berlin
BEGIN:DAYLIGHT
TZOFFSETFROM:+0100
TZOFFSETTO:+0200
TZNAME:CEST
DTSTART:20100328T010000
END:DAYLIGHT
BEGIN:STANDARD
TZOFFSETFROM:+0200
TZOFFSETTO:+0100
TZNAME:CET
DTSTART:20101031T010000
END:STANDARD
END:VTIMEZONE
BEGIN:VEVENT
DTSTART;TZID=Europe/Berlin:20100430T113000
DTEND;TZID=Europe/Berlin:20100430T160000
DTSTAMP:20260421T143110
CREATED:20181219T085028Z
LAST-MODIFIED:20181219T085937Z
UID:11621-1272627000-1272643200@kulturingraz.mur.at
SUMMARY:work.less.power
DESCRIPTION:Das friedliche Heer marschiert wieder gegen Arbeitslosigkeit \nAm 30. 4. 2010 – dem „Tag der Arbeitslosen“ – formiert sich zum dritten Mal das Heer der Arbeitslosen\, um unter dem Titel „work.less.power“ durch die Grazer Innenstadt zu marschieren und in lebenden Comics aktuelle Themen rund um das Thema Beschäftigungslosigkeit zu thematisieren.\nBegleitet wird das Heer von „FremdenlegionärInnen“\, die Gastperformances zum Besten geben. Für den geordneten Gleichschritt sorgt eine Jazz-Combo mit traditionell schrägen Tönen.\nDie Aktion endet im Grazer Congress\, wo das „Netzwerk der steirischen Beschäftigungsbetriebe“ (bbs) zum Motto des Tages eine Veranstaltung durchführt. \nWer sich mit den Anliegen des friedlichen Heeres solidarisieren möchte\, ist herzlich eingeladen mit zu marschieren!\nEs gibt keine TeilnehmerInnenobergrenze!\nKostüm: graue Kleidung. Dazu gibt es von uns einen Orden. \nDer Programmablauf: \n11.30 – 12.00 Uhr\nMariahilferplatz: „Tafel“\nGemeinsames Essen fassen\, Dekoration (Ordenvergabe) und Einstimmen auf den Marsch \n12.15 Uhr\n„Abmarsch“ \n12.30 Uhr\nSüdtiroler Platz: „Lebende Comics I“ \n13.00 Uhr\nFranziskanerplatz: „Lebende Comics II“ \n13.30 Uhr\nHauptplatz: „Lebende Comics III“ \n14.00 Uhr\nHerrengasse: „Lebende Comics IV“ \n14.30 Uhr\nEinmarsch in den Grazer Congress \n14.45 und 17.00 Uhr\n„Lebende Comics V und VI“ auf der Congress-Hauptbühne \n17.30 Uhr\nAbrüsten \nVeranstalter:\nInterACT\nKIG! – Kultur in Graz \nin Kooperation mit:\nbbs – Netzwerk Steirischer Beschäftigungsbetriebe
URL:https://kulturingraz.mur.at/event/work-less-power/
ATTACH;FMTTYPE=image/jpeg:https://kulturingraz.mur.at/wp-content/uploads/2018/12/tag-der-arbeitslosen.jpg
END:VEVENT
END:VCALENDAR