BEGIN:VCALENDAR
VERSION:2.0
PRODID:-//KiG! - ECPv5.8.1//NONSGML v1.0//EN
CALSCALE:GREGORIAN
METHOD:PUBLISH
X-WR-CALNAME:KiG!
X-ORIGINAL-URL:https://kulturingraz.mur.at
X-WR-CALDESC:Veranstaltungen für KiG!
BEGIN:VTIMEZONE
TZID:Europe/Berlin
BEGIN:DAYLIGHT
TZOFFSETFROM:+0100
TZOFFSETTO:+0200
TZNAME:CEST
DTSTART:20100328T010000
END:DAYLIGHT
BEGIN:STANDARD
TZOFFSETFROM:+0200
TZOFFSETTO:+0100
TZNAME:CET
DTSTART:20101031T010000
END:STANDARD
END:VTIMEZONE
BEGIN:VEVENT
DTSTART;TZID=Europe/Berlin:20100714T180000
DTEND;TZID=Europe/Berlin:20100714T210000
DTSTAMP:20260424T193523
CREATED:20180404T083138Z
LAST-MODIFIED:20180404T083138Z
UID:5618-1279130400-1279141200@kulturingraz.mur.at
SUMMARY:Walk The Line # 2 / 2010
DESCRIPTION:“Als die Zukunft noch hell war …” – Kulturstadtführung mit K. Stocker \n Im Graz der späten 70er Jahre tummelte sich ein buntes Spektrum liberaler\, linker\, linksradikaler und alternativer Gruppen. Während manche von ihnen glaubten\, die Welt politisch aus den Angeln heben zu können (wirklich!)\, versuchten die anderen im eher alltäglichen Bereich neue Formen des Zusammenlebens zu erproben. Viele der damaligen ProponentInnen integrierten sich in den frühen 1980er Jahren überraschend schnell in das alte “System”\, während andere sogar heute noch versuchen\, am Rad der Geschichte zu drehen.\nAm Spaziergang werden verschiedene – manche davon heute vielleicht etwas\nungewohnt anmutende – Aspekte der damaligen Entwicklung besprochen und\ndiskutiert. \nTreffpunkt: Humboldtstrasse/Ecke Peinlichgasse\nGeplante Orte für den Rundgang: Humboldtstrasse/Ecke Peinlichgasse –\nStadtpark – Sporgasse – Bürgergasse – Prokopigasse – Herrengasse – Hauptplatz\nDauer: ca. 1\,5 Stunden \nTermin: Mi 14.07.10\, 18.00 \nKarl Stocker\nHistoriker\, Ausstellungsmacher\, Studiengangsleiter FH JOANNEUM * \n*WALK THE LINE*\nKünstlerInnen haben im Rahmen des KiG!-Projekts UTOPIE UND KONSERVE Stadtführungen zu jenen Orten zusammengestellt\, die für die Kunst- und Kulturszene wie auch das politische Leben Relevanz hatten und haben. Mit einem Augenzwinkern wird ein Blick zurück auf die Geschichte geworfen\, dort hin wo die Grundlagen für (Um)brüche und Entwicklungen der letzten zwanzig Jahre entstanden. Gemeinsam mit den TeilnehmerInnen werden Zeitreisen zu jenen ungewöhnlichen Standorten unternommen\, an denen vieles diskutiert\, gefeiert\, ge- und erstritten oder gelebt wurde.
URL:https://kulturingraz.mur.at/event/walk-the-line-2-2010/
CATEGORIES:Ausstellung und Installation,Exkursion,Info und Diskussion
ATTACH;FMTTYPE=image/jpeg:https://kulturingraz.mur.at/wp-content/uploads/2018/04/kstocker_web_gross.jpg
ORGANIZER;CN="Kultur%20in%20Graz":MAILTO:office@kig.mur.at
END:VEVENT
END:VCALENDAR