BEGIN:VCALENDAR
VERSION:2.0
PRODID:-//KiG! - ECPv5.8.1//NONSGML v1.0//EN
CALSCALE:GREGORIAN
METHOD:PUBLISH
X-WR-CALNAME:KiG!
X-ORIGINAL-URL:https://kulturingraz.mur.at
X-WR-CALDESC:Veranstaltungen für KiG!
BEGIN:VTIMEZONE
TZID:Europe/Berlin
BEGIN:DAYLIGHT
TZOFFSETFROM:+0100
TZOFFSETTO:+0200
TZNAME:CEST
DTSTART:20120325T010000
END:DAYLIGHT
BEGIN:STANDARD
TZOFFSETFROM:+0200
TZOFFSETTO:+0100
TZNAME:CET
DTSTART:20121028T010000
END:STANDARD
END:VTIMEZONE
BEGIN:VEVENT
DTSTART;TZID=Europe/Berlin:20120918T170000
DTEND;TZID=Europe/Berlin:20120918T190000
DTSTAMP:20260426T051422
CREATED:20180329T121138Z
LAST-MODIFIED:20180329T121138Z
UID:5496-1347987600-1347994800@kulturingraz.mur.at
SUMMARY:Walk The Line # 1 / 12 mit WOLFRAM SCHEUCHER
DESCRIPTION:Walk The Line\n3 x Kulturspaziergang durch Zeit und Raum\n18.09 / 25.09 / 02.10 \nStadtspaziergänge geführt von KünstlerInnen und Kulturschaffenden. Ihren persönlichen Erinnerungen und Erlebnissen folgend unternehmen sie mit den TeilnehmerInnen eine Zeitreise\, in der sich die Wahrnehmung des heutigen Graz unmerklich verschiebt\, weil sich die Stimmen und Bilder der Vergangenheit und das Hier und Jetzt in einer mal utopischen\, mal dystopischen Collage überlagern. \n– Di.\, 18.09.\, 17:00 Uhr – Wolfram Scheucher – \n– WISSEN MACHT NICHTS GLAUBEN –\nWolfram Scheucher geht mit Ihnen durch den Dschungel des sakralen Graz. Wo man geht und steht und schaut\, Kirchen\, Klöster\, Stupas\, Moscheen\, Kapellen\, Marterln und dgl. Am Beispiel eines kleinen Wanderweges durch Lendgries können Sie sich selbst davon überzeugen. Wolfram Scheucher\, 1958\, ist hauptberufener Radiojournalist und Musiker. Sendungen bei Radio Helsinki\, “der kulturausrichter” sowie mit Anita Hofer bei “frühstück ohne illusionen” 92\,6. \nStart: Ecke Sigmundstadl/ Keplerstrasse \nWeitere Ausgaben:\n– Di.\, 25.09.\, 17:00 Uhr – Peter Wolf –\n– Di.\, 02.10.\, 17:00  Uhr – Mercy Dorcas Otieno –
URL:https://kulturingraz.mur.at/event/walk-the-line-1-12-mit-wolfram-scheucher/
CATEGORIES:Aktion und Performance,Exkursion,Info und Diskussion
ATTACH;FMTTYPE=image/jpeg:https://kulturingraz.mur.at/wp-content/uploads/2018/03/scheucher_kig_web380.jpg
ORGANIZER;CN="Kultur%20in%20Graz":MAILTO:office@kig.mur.at
END:VEVENT
END:VCALENDAR