BEGIN:VCALENDAR
VERSION:2.0
PRODID:-//KiG! - ECPv5.8.1//NONSGML v1.0//EN
CALSCALE:GREGORIAN
METHOD:PUBLISH
X-WR-CALNAME:KiG!
X-ORIGINAL-URL:https://kulturingraz.mur.at
X-WR-CALDESC:Veranstaltungen für KiG!
BEGIN:VTIMEZONE
TZID:Europe/Berlin
BEGIN:DAYLIGHT
TZOFFSETFROM:+0100
TZOFFSETTO:+0200
TZNAME:CEST
DTSTART:20170326T010000
END:DAYLIGHT
BEGIN:STANDARD
TZOFFSETFROM:+0200
TZOFFSETTO:+0100
TZNAME:CET
DTSTART:20171029T010000
END:STANDARD
END:VTIMEZONE
BEGIN:VEVENT
DTSTART;TZID=Europe/Berlin:20170510T160000
DTEND;TZID=Europe/Berlin:20170510T180000
DTSTAMP:20260420T205603
CREATED:20170314T081245Z
LAST-MODIFIED:20180406T084103Z
UID:337-1494432000-1494439200@kulturingraz.mur.at
SUMMARY:Sichtbar gemachte Liebe - Atelierbesuch bei Larissa Zauser\, Richard Griletz und Verena Lepuschitz
DESCRIPTION:Larissa Zauser \nLarissa Zauser\, ist eine junge Fotografin die sich mit Mensch und Natur auseinandersetzt. Sie stellt sich die Frage\, wie sich der Mensch in der natürlichen Landschaft darstellt und wie er sich im Raum definiert und inszeniert. Zusätzlich zu ihren fotografischen Werken entstehen auch immer wieder Rauminstallationen wie auch Texte die sie mit Bildern kombiniert. Momentan beschäftigt Sie sich mit dem Thema\, Geschichtlichkeit und Portrait in der heutigen Zeit.\nwww.larissazauser.com \nRichard Griletz \nMit 13 Jahren betrat Richard Griletz zum ersten Mal eine Dunkelkammer. Das Interesse für Menschen und gesellschaftliche Strukturen führte ihn jedoch zunächst zum Studium der Soziologie und über die Begeisterung für Filme schlussendlich wieder zurück zur Fotografie. Ein dokumentarischer Stil\, eine gesellschaftskritische Perspektive und das Interesse für soziale Verhältnisse blieben ihm aus dieser Zeit erhalten und prägen seither seine Fotografie. Für ihn ist die Fotografie ein Versuch\, den Menschen und seine Wirklichkeit(en) visuell zu ergründen.\nrichard-griletz.net \nVerena Lepuschitz \nLepuschitz Verena ist Fotografin. Sie hat das Kolleg für Fine Art Photography und Multimedia Art an der Ortweinschule besucht. Derzeit arbeitet sie in einem Atelier der Stadt Graz. In ihren künstlerischen Arbeiten interessiert sie sich für die Fotografie als Darstellung der Realität und den Wirklichkeitsbezug einer Fotografie als Konstruktion. \n\n    \n        \n            \n                \n                \n                \n                \n                \n                \n                \n            \n        \n        \n    \n\nBildrechte/copyright Ⓒ: Featured Image: Larissa Zauser / Diashow: sharing is caring
URL:https://kulturingraz.mur.at/event/sichtbar-gemachte-liebe-atelierbesuch-bei-larissa-zauser-richard-griletz-und-verena-lepuschitz/
LOCATION:Treffpunkt\, Lagergasse 98a\, Graz\, 8020\, Österreich
CATEGORIES:Archiv und Dokumentation,Exkursion,Sichtbar gemachte Liebe
ATTACH;FMTTYPE=image/jpeg:https://kulturingraz.mur.at/wp-content/uploads/2017/03/HUMAN-4.jpg
ORGANIZER;CN="Kultur%20in%20Graz":MAILTO:office@kig.mur.at
END:VEVENT
END:VCALENDAR