BEGIN:VCALENDAR
VERSION:2.0
PRODID:-//KiG! - ECPv5.8.1//NONSGML v1.0//EN
CALSCALE:GREGORIAN
METHOD:PUBLISH
X-WR-CALNAME:KiG!
X-ORIGINAL-URL:https://kulturingraz.mur.at
X-WR-CALDESC:Veranstaltungen für KiG!
BEGIN:VTIMEZONE
TZID:Europe/Berlin
BEGIN:DAYLIGHT
TZOFFSETFROM:+0100
TZOFFSETTO:+0200
TZNAME:CEST
DTSTART:20130331T010000
END:DAYLIGHT
BEGIN:STANDARD
TZOFFSETFROM:+0200
TZOFFSETTO:+0100
TZNAME:CET
DTSTART:20131027T010000
END:STANDARD
END:VTIMEZONE
BEGIN:VEVENT
DTSTART;TZID=Europe/Berlin:20130926T210000
DTEND;TZID=Europe/Berlin:20130926T220000
DTSTAMP:20260423T174142
CREATED:20181121T115844Z
LAST-MODIFIED:20181121T115844Z
UID:7963-1380229200-1380232800@kulturingraz.mur.at
SUMMARY:S.T.D. - Sexually Transmitted Disorders [A]
DESCRIPTION:Just Friends without one Lover präsentieren eine überbewertete Liebesperformance. Drama pur. \nLina Maria Gärtner und Magdalena Gasser sind zwei Drittel der Band Just Friends and Lovers (http://fettkakao.bandcamp.com/album/what-colour). \nWährend sich die eine gerade wissenschaftlich mit Geschlechterrollen in der russischen Pop-Musik beschäftigt\, versucht sich die andere queer als Bäurin – zu Gast in einem gender-reflektierenden Hofkollektiv. Beide können auf viele feministische und sensibilisierende Aktivitäten in Graz zurückblicken\, zum Beispiel auf die Veranstaltungsorganisation der Konzertreihe “wilhelmine show me the microphone” oder die Mitentwicklung der Jugendworkshopreihe liebeist.org. Keine der beiden beobachtete jemals jemanden beim ***verkehr mit einem ***-on. \nBildrechte: (C) Magdalena Gasser
URL:https://kulturingraz.mur.at/event/s-t-d-sexually-transmitted-disorders-a-2/
CATEGORIES:Aktion und Performance
END:VEVENT
END:VCALENDAR