BEGIN:VCALENDAR
VERSION:2.0
PRODID:-//KiG! - ECPv5.8.1//NONSGML v1.0//EN
CALSCALE:GREGORIAN
METHOD:PUBLISH
X-WR-CALNAME:KiG!
X-ORIGINAL-URL:https://kulturingraz.mur.at
X-WR-CALDESC:Veranstaltungen für KiG!
BEGIN:VTIMEZONE
TZID:Europe/Berlin
BEGIN:DAYLIGHT
TZOFFSETFROM:+0100
TZOFFSETTO:+0200
TZNAME:CEST
DTSTART:20220327T010000
END:DAYLIGHT
BEGIN:STANDARD
TZOFFSETFROM:+0200
TZOFFSETTO:+0100
TZNAME:CET
DTSTART:20221030T010000
END:STANDARD
END:VTIMEZONE
BEGIN:VEVENT
DTSTART;TZID=Europe/Berlin:20221203T090000
DTEND;TZID=Europe/Berlin:20221204T113000
DTSTAMP:20260424T191659
CREATED:20221025T190341Z
LAST-MODIFIED:20221129T093739Z
UID:18797-1670058000-1670153400@kulturingraz.mur.at
SUMMARY:RiesenOhrenAbenteuer - Neue Musik für Kinder von 0-5+ Jahren
DESCRIPTION:Samstag 03. und Sonntag 04. Dezember 2022 \n09:00 – 09:30 Krabbelkonzerte für Kinder von 0-3+ Jahren\n10:30 – 11:00 Kinderkonzerte für Kinder von 3-5+ Jahren \nKompositionen von Béla Bartók\, Saint-Saens\, Robert Schumann\, Edvard Grieg werden mit rumänischen und deutschen Volksliedern zu einem spannenden Konzerterlebnis zusammengefügt. Vier Musiker*innen aus dem Umfeld des Kunstkollektives SevenCircles schaffen eine anregende Konzertatmosphäre\, in der Kinder und Begleitpersonen sich frei im Raum bewegen und ungezwungen Musik und Instrumente kennenlernen können. Bodeninseln mit Kissen und Matten liegen für die Besuchenden bereit und laden zu einem entspannten und inspirierenden Vormittag ein. \nChristina Arandes Macian – Viola\nManuel Alcarez Clemente – Schlagwerk\nJohannes Feuchter – Clarinette\nYulan Yu – Klavier \n  \nKartenreservierung:\nhttps://www.eventbrite.at/e/riesenohrenabenteuer-registrierung-410444700147\noder: verwaltung@kig.mur.at \nMehr Information:\nhttps://www.7circles.at/ \nBildrechte/copyright Ⓒ: Kultur in Graz
URL:https://kulturingraz.mur.at/event/riesenohrenabenteuer-neue-musik-fuer-kinder-von-0-5-jahren-2/
LOCATION:Kultur in Graz\, Saal 3\, Lagergasse 98A\, Graz\, 8020
CATEGORIES:Musik
ATTACH;FMTTYPE=image/jpeg:https://kulturingraz.mur.at/wp-content/uploads/2022/10/20220918_091635-scaled-e1666770231244.jpg
ORGANIZER;CN="Kultur%20in%20Graz":MAILTO:office@kig.mur.at
END:VEVENT
END:VCALENDAR