BEGIN:VCALENDAR
VERSION:2.0
PRODID:-//KiG! - ECPv5.8.1//NONSGML v1.0//EN
CALSCALE:GREGORIAN
METHOD:PUBLISH
X-WR-CALNAME:KiG!
X-ORIGINAL-URL:https://kulturingraz.mur.at
X-WR-CALDESC:Veranstaltungen für KiG!
BEGIN:VTIMEZONE
TZID:Europe/Berlin
BEGIN:DAYLIGHT
TZOFFSETFROM:+0100
TZOFFSETTO:+0200
TZNAME:CEST
DTSTART:20090329T010000
END:DAYLIGHT
BEGIN:STANDARD
TZOFFSETFROM:+0200
TZOFFSETTO:+0100
TZNAME:CET
DTSTART:20091025T010000
END:STANDARD
END:VTIMEZONE
BEGIN:VEVENT
DTSTART;TZID=Europe/Berlin:20091015T080000
DTEND;TZID=Europe/Berlin:20091017T230000
DTSTAMP:20260424T145527
CREATED:20180404T102220Z
LAST-MODIFIED:20250708T120536Z
UID:5681-1255593600-1255820400@kulturingraz.mur.at
SUMMARY:queerograd 2009
DESCRIPTION:Diskurs & Performanzen zwischen queeren und kommunistisch-emanzipatorischen Perspektiven / po(po)litainment – Identitätsdefizitärenz – Adorno-torture – Judith-Butler-dissing – drag-prolls – fröhliche Soldaten ihrer queeren Lust – Fragmente zum queeren Univeralismus & Emanzipation – Antisemitismus & Homophobie \nqueerograd ist ein Plattform-Format zwischen seriösem Diskurs und trashigem Politainment\, bei dem in Theorie & performativer Praxis über heteronormative Matrix\, Identitäten und Identitätskonstruktionen\, Geschlechter- und Gesellschaftsverhältnisse\, linke Perspektiven und radikale Globalismen diskursiv verhandelt wird.\nNach dem fulminaten Debut in Graz im November 2006\, der komplexen Fortsetzung im November 2007 wird queerograd nun zum 3. Mal in Graz von KIG! präsentiert. \nTermin: Donnerstag\, 15.10.09 – Samstag\, 17.10.09\nOrt: Theater am Lend – Wienerstraße 58a – 8020 Graz – http://www.theateramlend.at \nSchwerpunkt diesmal: \nausgestattet mit der – konstruktion der: schwulen – ideologie des edlen leibes. Positionen\, Fragmente\, Variationen und Widersprüche über (Homo)sexualität\, Produktion von Männlichkeiten und faschistischer Ideologie – respektive die Konstruktion des schwulen Nazis. \nMit: toxic dreams\, Didi Bruckmayr\, Bulbul\, nincompoop\, meanmachine\, djane teutonia aka Casper G. Zehner\, Ljiljana Radonic\, Gerhard Scheit\, Marcel Wolters\, Astrid Hanisch und Xela\n\nProgrammüberblick \nDonnerstag 15.10.09\n20:00 Uhr\nCasper G. Zehner: Intro & Fragmente zum Schwerpunkt\nMarcel Wolters Geschlechterfantasien: Von der Psychoanalyse des soldatischen Mannes zur Psychoanalyse des Geschlechterverhältnisses\nAstrid Hanisch Antisemitismus als Ideologie und Strategie in der 1. Frauenbewegung im Deutschen Reich und der Habsburger Monarchie\nPodiumsdiskussion (Moderation: Xela)\nanschließend:\nUmtrunk \nFreitag 16.10.09\n18:30 Uhr\nVorträge mit Podiumsdiskussion\nLjilijana Radonic Die Politisierung der Lust – Sexualität im Nationalsozialismus\nGerhard Scheit Erhabener Körper\, quälbarer Leib\n21:30 Uhr\ntoxic dreams Mein Camp – Eine Lecture Demonstration\n23:00 Uhr\nLiederabend mit Imbiss djane teutonia feat. Dr. Didi Bruckmayr:\nDer mordtraurige Max – nazi-schwule Larmoyanz-Barden-Songs nach Jonathan Littell und Jean Genet\nanschließend:\nLeichtes Fest\n\nSamstag 17.10.09\n20:00 Uhr\ntoxic dreams Mein Camp – Eine Lecture Demonstration\n21:30 Uhr\nSol Haring: white man show\n23:00 Uhr\nRock-Tuntismus-Schau: Bulbul feat. nincompoop\nanschließend:\nRauschendes Fest
URL:https://kulturingraz.mur.at/event/queerograd-2009/
LOCATION:TAL – Theater am Lend\, Wiener Straße 58a\, Graz\, Steiermark\, 8020\, Österreich
CATEGORIES:Festival
ATTACH;FMTTYPE=image/jpeg:https://kulturingraz.mur.at/wp-content/uploads/2018/03/queer_herzlogo_cmyk_580px.jpg
ORGANIZER;CN="Kultur%20in%20Graz":MAILTO:office@kig.mur.at
END:VEVENT
END:VCALENDAR