BEGIN:VCALENDAR
VERSION:2.0
PRODID:-//KiG! - ECPv5.8.1//NONSGML v1.0//EN
CALSCALE:GREGORIAN
METHOD:PUBLISH
X-WR-CALNAME:KiG!
X-ORIGINAL-URL:https://kulturingraz.mur.at
X-WR-CALDESC:Veranstaltungen für KiG!
BEGIN:VTIMEZONE
TZID:Europe/Berlin
BEGIN:DAYLIGHT
TZOFFSETFROM:+0100
TZOFFSETTO:+0200
TZNAME:CEST
DTSTART:20210328T010000
END:DAYLIGHT
BEGIN:STANDARD
TZOFFSETFROM:+0200
TZOFFSETTO:+0100
TZNAME:CET
DTSTART:20211031T010000
END:STANDARD
END:VTIMEZONE
BEGIN:VEVENT
DTSTART;TZID=Europe/Berlin:20210716T160000
DTEND;TZID=Europe/Berlin:20210827T190000
DTSTAMP:20260425T153451
CREATED:20211008T101348Z
LAST-MODIFIED:20211021T092711Z
UID:17178-1626451200-1630090800@kulturingraz.mur.at
SUMMARY:Queering Calender Grrrlz
DESCRIPTION:Schräge erotische Kalender\ngesammelt und präsentiert von Leni Kastl \nDas Ausdrucksmittel des erotischen Kunstkalenders wurde bereits von reifen englischen Landfrauen gequeert. Wie die verfilmte Geschichte Calender Girls (2003) zeigt\, wurden erotische Bilder inszeniert mit Körpern\, die im Mainstream wenig sexuellen Marktwert besitzen.\nIn dieser Ausstellung werden einige Kalender der letzten beiden Jahrzehnte gezeigt\, die ebenfalls spielerisch bis subversiv mit zwölf Bildern Geschichten erzählen. Einige bleiben beim Fundraising-Konzept\, andere wollen Sehgewohnheiten hinterfragen und einen neuen Blick schaffen\, und schließlich ist ein Kunstkalender eine in sich geschlossene niederschwellige Jahresausstellung\, art to go.\n \nÖffnungszeiten:\n               Mi- Fr  von 15h- 19h und Sa von 11h- 15h
URL:https://kulturingraz.mur.at/event/queering-calender-grrrlz/
LOCATION:Kultur in Graz\, Lagergasse 98A\, Graz\, 8020
CATEGORIES:Ausstellung,Präsentation
ATTACH;FMTTYPE=image/jpeg:https://kulturingraz.mur.at/wp-content/uploads/2021/10/20210803_121142_web-e1634806343829.jpg
ORGANIZER;CN="Kultur%20in%20Graz":MAILTO:office@kig.mur.at
END:VEVENT
END:VCALENDAR