BEGIN:VCALENDAR
VERSION:2.0
PRODID:-//KiG! - ECPv5.8.1//NONSGML v1.0//EN
CALSCALE:GREGORIAN
METHOD:PUBLISH
X-WR-CALNAME:KiG!
X-ORIGINAL-URL:https://kulturingraz.mur.at
X-WR-CALDESC:Veranstaltungen für KiG!
BEGIN:VTIMEZONE
TZID:Europe/Berlin
BEGIN:DAYLIGHT
TZOFFSETFROM:+0100
TZOFFSETTO:+0200
TZNAME:CEST
DTSTART:20160327T010000
END:DAYLIGHT
BEGIN:STANDARD
TZOFFSETFROM:+0200
TZOFFSETTO:+0100
TZNAME:CET
DTSTART:20161030T010000
END:STANDARD
END:VTIMEZONE
BEGIN:VEVENT
DTSTART;TZID=Europe/Berlin:20161103T180000
DTEND;TZID=Europe/Berlin:20161105T235500
DTSTAMP:20260421T103936
CREATED:20181126T143329Z
LAST-MODIFIED:20181129T082914Z
UID:8121-1478196000-1478390100@kulturingraz.mur.at
SUMMARY:Oni Kava: Zafara
DESCRIPTION:Oni Kava: Zafara \nZarafa kennt das Drama\, sie kennt Gewalt. Sie kennt Tod und Verderben. Sie hat es gesehen\, sie hat es gespürt und hat es erlebt. Ihre Herausforderung war es\, bei all den Schrecklichkeiten einen klaren Geist zu bewahren\, und sich nicht zu verlieren in all den Verworrenheiten des Lebens. Die Herausforderung war es\, die Hoffnung nicht zu verlieren und seelenvoll zu bleiben. Zarafa möchte dazu animieren\, sich auf sich selbst zu besinnen und Unfrieden nicht mit noch mehr Krieg zu bekämpfen. Wie schaffe ich Frieden in mir? Wie kann ich diesen Frieden weitergeben? \nOni Kava: Schmuckkunst\, Mal- und Gestaltungstherapie (Trauma und Trauerbewältigung)\, Grafik und Kommunikationsdesign. \n\n\n\n\n\nOni Kava: Zafara  \nZarafa knows drama\, she knows violence. She knows death and ruin. She has seen it\, she has felt it and has experienced it. Her challenge was to keep a clear mind in all the horrors\, and not to lose herself in all the confusion of life. The challenge was not to lose hope and remain so soulful. Zarafa wants to encourage people to bethink of oneself and not to fight dissatisfaction with even more war. How can I make peace in myself? How can I pass on this peace? \nOni Kava: Jewelery art\, painting and design therapy (trauma and trauma management)\, graphics and communication design. \nImage Copyright: Oni Kava \n\nBildrechte: Oni Kava
URL:https://kulturingraz.mur.at/event/oni-kava-zafara/
CATEGORIES:Ausstellung und Installation
END:VEVENT
END:VCALENDAR