BEGIN:VCALENDAR
VERSION:2.0
PRODID:-//KiG! - ECPv5.8.1//NONSGML v1.0//EN
CALSCALE:GREGORIAN
METHOD:PUBLISH
X-WR-CALNAME:KiG!
X-ORIGINAL-URL:https://kulturingraz.mur.at
X-WR-CALDESC:Veranstaltungen für KiG!
BEGIN:VTIMEZONE
TZID:Europe/Berlin
BEGIN:DAYLIGHT
TZOFFSETFROM:+0100
TZOFFSETTO:+0200
TZNAME:CEST
DTSTART:20140330T010000
END:DAYLIGHT
BEGIN:STANDARD
TZOFFSETFROM:+0200
TZOFFSETTO:+0100
TZNAME:CET
DTSTART:20141026T010000
END:STANDARD
END:VTIMEZONE
BEGIN:VEVENT
DTSTART;TZID=Europe/Berlin:20141030T180000
DTEND;TZID=Europe/Berlin:20141101T190000
DTSTAMP:20260419T160058
CREATED:20181116T100002Z
LAST-MODIFIED:20181116T100352Z
UID:7841-1414692000-1414868400@kulturingraz.mur.at
SUMMARY:Nicole Pruckermayr
DESCRIPTION:Abdecken. Nach oben schauen.\nDie Decke ist abgesenkt. Der Raum wird niedriger. Eine Haut hängt durch und wird fühlbar. Sie wirkt befremdend\, sie erdrückt den Raum. Es ist zu groß\, es ist beängstigend und gleichzeitig heimelig. Ein riesiger Körper drängt sich ins Zimmer. Kann man sich hier ankuscheln\, oder wird man erdrückt? Ganz neu sieht die Haut auch nicht mehr aus. Nahtstellen und Verfärbungen zeigen das Alter. \nNicole Pruckermayr (AT)  lebt und arbeitet in Graz\, Studium der Biologie und Architektur; Doktorat im Bereich der Visuellen Kultur und Kunstanthroplogie (2014\, “Haut als Distanzerfahrung”). 2004-2012 Assistentin am Institut für Zeitgenössische Kunst bei Hans Kupelwieser. 2004-2013 Bassistin bei extofita. Mitglied bei: nap+forum::für::umläute\, IMA\, Schaumbad und mur.at. Mit Raum\, Ort\, Menschen und menschlichen Körpern denkend und arbeitend. Video\, (mediale) Installationen\, Performance und Projekte im öffentlichen Raum. umlaeute.mur.at/Members/nap\n \nCover. Look up.\nThe ceiling is lowered. The room is getting smaller and smaller. A skin sags and becomes tangible. It acts strange\, it crushes the room. It’s too big\, it’s scary and homey at the same time. A huge body forces itself into the room. Can you cuddle here\, or will you be crushed? It doesn’t seem brand-new any more. Seams and discoloration indicate the age. \nNicole Pruckermayr (AT)\nLives and works in Graz\, studied biology and architecture\, doctorate in the field of visual culture and art anthropology (2014\, “Haut als Distanzerfahrung”)\n2004-2012 Assistant to Hans Kupelwieser at the Institute of Contemporary Art\n2004-2013 bassist at “extofita”. Member of: nap + forum :: for :: umläute\, IMA\, bubble bath and mur.at.\nThinking and working with space\, place\, people\, and human bodies. Video (media) installations\, performances and projects in public space. umlaeute.mur.at/Members/nap \n\nNicole Pruckermayr: Abdecken. Nach oben schauen.\n \n(c) Elena Tikhonova\, (c) Nicole Pruckermayer
URL:https://kulturingraz.mur.at/event/nicole-pruckermayr/
CATEGORIES:Ausstellung und Installation
END:VEVENT
END:VCALENDAR