BEGIN:VCALENDAR
VERSION:2.0
PRODID:-//KiG! - ECPv5.8.1//NONSGML v1.0//EN
CALSCALE:GREGORIAN
METHOD:PUBLISH
X-WR-CALNAME:KiG!
X-ORIGINAL-URL:https://kulturingraz.mur.at
X-WR-CALDESC:Veranstaltungen für KiG!
BEGIN:VTIMEZONE
TZID:Europe/Berlin
BEGIN:DAYLIGHT
TZOFFSETFROM:+0100
TZOFFSETTO:+0200
TZNAME:CEST
DTSTART:20170326T010000
END:DAYLIGHT
BEGIN:STANDARD
TZOFFSETFROM:+0200
TZOFFSETTO:+0100
TZNAME:CET
DTSTART:20171029T010000
END:STANDARD
END:VTIMEZONE
BEGIN:VEVENT
DTSTART;TZID=Europe/Berlin:20170530T160000
DTEND;TZID=Europe/Berlin:20170530T170000
DTSTAMP:20260419T140931
CREATED:20170316T141251Z
LAST-MODIFIED:20180406T083855Z
UID:355-1496160000-1496163600@kulturingraz.mur.at
SUMMARY:Küchengespräche mit Yin Ping
DESCRIPTION:JIAOZI\n\nEine chinesische Traditionsspeise\n\nJiaozi sind Handgerollte Teigtaschen gefüllt mit Gemüse\, Fleisch\, Garnellen oder sonstigen Zutaten. Meist im Kreis der Familie zubereitet.\n\nZubereitung und anschließende Verkostung gemeinsam mit Yin Ping.\n\nIm Anschluss zeigt Yin Ping Dias von ihrer Japanreise.\n\n    \n        \n            \n                \n                \n                \n                \n                \n                \n                \n                \n                \n                \n                \n                \n                \n                \n                \n                \n                \n                \n                \n                \n            \n        \n        \n    \n\nBildrechte/copyright Ⓒ: lizenzfrei / Diashow: sharing is caring
URL:https://kulturingraz.mur.at/event/kuechengespraeche-mit-yin-ping/
LOCATION:Kultur in Graz\, Küche\, Lagergasse 98A\, Graz\, 8020
CATEGORIES:Aktion und Performance,Archiv und Dokumentation,Küchengespräche
ATTACH;FMTTYPE=image/jpeg:https://kulturingraz.mur.at/wp-content/uploads/2017/03/jiaozi.jpg
ORGANIZER;CN="Kultur%20in%20Graz":MAILTO:office@kig.mur.at
END:VEVENT
END:VCALENDAR