BEGIN:VCALENDAR
VERSION:2.0
PRODID:-//KiG! - ECPv5.8.1//NONSGML v1.0//EN
CALSCALE:GREGORIAN
METHOD:PUBLISH
X-WR-CALNAME:KiG!
X-ORIGINAL-URL:https://kulturingraz.mur.at
X-WR-CALDESC:Veranstaltungen für KiG!
BEGIN:VTIMEZONE
TZID:Europe/Berlin
BEGIN:DAYLIGHT
TZOFFSETFROM:+0100
TZOFFSETTO:+0200
TZNAME:CEST
DTSTART:20140330T010000
END:DAYLIGHT
BEGIN:STANDARD
TZOFFSETFROM:+0200
TZOFFSETTO:+0100
TZNAME:CET
DTSTART:20141026T010000
END:STANDARD
END:VTIMEZONE
BEGIN:VEVENT
DTSTART;TZID=Europe/Berlin:20141101T220000
DTEND;TZID=Europe/Berlin:20141101T220000
DTSTAMP:20260419T140932
CREATED:20181120T141659Z
LAST-MODIFIED:20181120T141659Z
UID:7935-1414879200-1414879200@kulturingraz.mur.at
SUMMARY:Just Friends and Lovers (Nightline)
DESCRIPTION:Innerhalb eines fein gesponnenen Netzes vollführen die Lo-Fi-Göttinnen von Just Friends and Lovers (JFaL) eine Karussellfahrt rund um Post-punk\, No-Wave und Indie-Pop. Zusätzlich zu den schnellen Wechseln der Instrumente gehen ihre Melodien direkt in die Herzen und Tanzbeine der Zuhörer*innen. Lina\, Lena und Veronika sind das Gegenteil von Klugscheißer*innen\, sie haben bereits in Bands wie Lady Lynch Black Fox Trooikal oder Telly Is The Tube performt und konnten auch in klassischen Orchestern musikalische Erfahrungen machen. \nIhre Spezialität ist der flinke Wechsel von Instrumenten\, einmal spielt die eine das Schlagzeug\, beim nächsten Lied die andere. Eine singt oder eine mehrstimmige Ode erklingt. Eine spielt Keyboard\, während die anderen beiden Gitarre und Bass tauschen. Die Zuschauer freut‘s! “Perfektion ist nicht unsere Sache”\, sagen sie. \nJFaL sind seit 2012 aktiv und haben zwei Kassetten beim Label Wilhelm Show me the Major Label veröffentlicht. Single und Album “What\, Colour?” wurde 2013 beim Wiener Label Fettkakao produziert. \n  \n  \nIn a masterly spun web the three Lo-Fi goddesses of Just Friends and Lovers (JFaL) perform their merry-go-round of Post-punk\, No-Wave and Indie-Pop. Besides their quick switches of instruments their melodies go straight to the listeners hearts and feet. Lina\, Lena and Veronika are the opposite of smart alecks\, they performed in several other bands such as Lady Lynch\, Black Fox Tropikal or Telly Is The Tube and gained experience also in classical orchestras. \nTheir speciality is the swift swapping of instruments\, one is playing the drums and on the the next tune the other. One is singing or they’re starting a polyphonic ode. One is pressing the buttons on the keyboard whilst the others switching bass and guitar. The audience is delighted! „Perfection is not really our cup of tea“\, they say. \nJFaL as a constellation have been active since 2012. They realeased two MusiCassettes on the Graz based Wilhelm Show me the Major Label. One single and their debut full length album „What\, Colour?“ (2013) was released on the Viennese label Fettkakao. \n  \n(c) Just friends and lovers\, (c) Andrea Tesanovic
URL:https://kulturingraz.mur.at/event/just-friends-and-lovers-nightline/
CATEGORIES:Musik
END:VEVENT
END:VCALENDAR