BEGIN:VCALENDAR
VERSION:2.0
PRODID:-//KiG! - ECPv5.8.1//NONSGML v1.0//EN
CALSCALE:GREGORIAN
METHOD:PUBLISH
X-WR-CALNAME:KiG!
X-ORIGINAL-URL:https://kulturingraz.mur.at
X-WR-CALDESC:Veranstaltungen für KiG!
BEGIN:VTIMEZONE
TZID:Europe/Berlin
BEGIN:DAYLIGHT
TZOFFSETFROM:+0100
TZOFFSETTO:+0200
TZNAME:CEST
DTSTART:20160327T010000
END:DAYLIGHT
BEGIN:STANDARD
TZOFFSETFROM:+0200
TZOFFSETTO:+0100
TZNAME:CET
DTSTART:20161030T010000
END:STANDARD
END:VTIMEZONE
BEGIN:VEVENT
DTSTART;TZID=Europe/Berlin:20161103T180000
DTEND;TZID=Europe/Berlin:20161105T235500
DTSTAMP:20260423T002943
CREATED:20181123T150226Z
LAST-MODIFIED:20181129T072323Z
UID:8072-1478196000-1478390100@kulturingraz.mur.at
SUMMARY:Johanna Bonsels: Menú del dia
DESCRIPTION:Johanna Bonsels: Menú del dia \nIn der Zeit der „bunten Bilder“ geht meine Sympathie zumeist in Richtung Schwarzweißphotographie\, da sie mit ihrer besonderen Fähigkeit zur minimalistischen Motivabstraktion Bildaussagen künstlerisch intensivieren kann. Sie ist zeitloser und lässt mehr Raum für eigene Vorstellungen und Interpretationen. Ich will mit Fotos malen\, sie mischen und vermischen\, durcheinander und übereinander legen. Der Zufall spielt nicht selten eine wesentliche Rolle dabei. \nJohanna Bonsels begann nach der Meisterklasse für Malerei an der Ortweinschule Graz (2009 – 2011) und der Meisterklasse für Fotografie an der Fotoakademie Graz (2011 – 2014)\, sich als Fotografin selbständig zu machen und ihre Vorstellungen von Fotografie zu verwirklichen. \n\n\n\n\nJohanna Bonsels: Menú del dia \nIn the time of the “colorful pictures” my sympathy usually goes in the direction of black-and-white photography\, as it can artistically intensify pictural statements with its special ability to minimalist motif abstraction. It is more timeless and leaves more space for your own ideas and interpretations. I want to paint with photos\, blend and mingle them\, mix them up and put them on top of each other. Coincidence not uncommonly plays an important role in this. \nAfter the masterclass for painting at Ortweinschule Graz (2009 – 2011) and the masterclass for photography at Fotoakademie Graz (2011 – 2014) Johanna Bonsels began to become self-employed as a photographer and to realize her ideas of photography. \nImage Copyright: Johanna Bonsels \n\nBildrechte: Johanna Bonsels
URL:https://kulturingraz.mur.at/event/johanna-bonsels-menu-del-dia/
CATEGORIES:Ausstellung und Installation
END:VEVENT
END:VCALENDAR