BEGIN:VCALENDAR
VERSION:2.0
PRODID:-//KiG! - ECPv5.8.1//NONSGML v1.0//EN
CALSCALE:GREGORIAN
METHOD:PUBLISH
X-WR-CALNAME:KiG!
X-ORIGINAL-URL:https://kulturingraz.mur.at
X-WR-CALDESC:Veranstaltungen für KiG!
BEGIN:VTIMEZONE
TZID:Europe/Berlin
BEGIN:DAYLIGHT
TZOFFSETFROM:+0100
TZOFFSETTO:+0200
TZNAME:CEST
DTSTART:20110327T010000
END:DAYLIGHT
BEGIN:STANDARD
TZOFFSETFROM:+0200
TZOFFSETTO:+0100
TZNAME:CET
DTSTART:20111030T010000
END:STANDARD
END:VTIMEZONE
BEGIN:VEVENT
DTSTART;TZID=Europe/Berlin:20110914T200000
DTEND;TZID=Europe/Berlin:20110914T230000
DTSTAMP:20260419T171645
CREATED:20181218T140151Z
LAST-MODIFIED:20181218T140151Z
UID:11587-1316030400-1316041200@kulturingraz.mur.at
SUMMARY:Gesamtkunstwerk Graz zum Tag der Arbeitslosen 2011
DESCRIPTION:Filmscreening im Forum Stadtpark \n Gesamtkunstwerk Graz zum Tag der Arbeitslosen 2011\n \nEin Film von von Andrea Schabernack und Norbert Prettenthaler.\n35 min\, 2011 \nWie sind die Fragen einer sozialen Zukunft kommunizierbar?\nDas Experiment am Tag der Arbeitslosen: die Besetzung des öffentlichen Raumes mit 15 voneinander unabhängigen Positionen als Einladung zur Beteiligung an den Fragestellungen. Der Film zeichnet ein stimmungsvolles Gesamtbild der Operationen am 30.04.2011\, indem er es wagt\, die 15 Einzelpositionen zu beleuchten und zu hinterfragen\, Spuren zu suchen\, die weiterverfolgt werden können und der sozialen Funktion von Interventionen im öffentlichen Raum nachzugehen. \nInfo-Websites:  http://tagderarbeitslosen.mur.at und   http://kig.mur.at/ \n\n\n\n\n14. September 2011\, 20:00 Uhr\n\n\nForum Stadtpark\nStadtpark 1
URL:https://kulturingraz.mur.at/event/gesamtkunstwerk-graz-zum-tag-der-arbeitslosen-2011/
ATTACH;FMTTYPE=image/jpeg:https://kulturingraz.mur.at/wp-content/uploads/2018/12/wlp_abschlusstafel_001_web_kig.jpg
END:VEVENT
END:VCALENDAR