BEGIN:VCALENDAR
VERSION:2.0
PRODID:-//KiG! - ECPv5.8.1//NONSGML v1.0//EN
CALSCALE:GREGORIAN
METHOD:PUBLISH
X-WR-CALNAME:KiG!
X-ORIGINAL-URL:https://kulturingraz.mur.at
X-WR-CALDESC:Veranstaltungen für KiG!
BEGIN:VTIMEZONE
TZID:Europe/Berlin
BEGIN:DAYLIGHT
TZOFFSETFROM:+0100
TZOFFSETTO:+0200
TZNAME:CEST
DTSTART:20100328T010000
END:DAYLIGHT
BEGIN:STANDARD
TZOFFSETFROM:+0200
TZOFFSETTO:+0100
TZNAME:CET
DTSTART:20101031T010000
END:STANDARD
END:VTIMEZONE
BEGIN:VEVENT
DTSTART;TZID=Europe/Berlin:20100729T000000
DTEND;TZID=Europe/Berlin:20100729T000000
DTSTAMP:20260421T162233
CREATED:20180404T081932Z
LAST-MODIFIED:20181219T082201Z
UID:5609-1280361600-1280361600@kulturingraz.mur.at
SUMMARY:Geliebter Feind
DESCRIPTION:Neuer ORT: Niesenbergergasse 16 \nLauer Abend. Lauschiger Garten. Legendäres Kino.\nPrädikat: Erlebenswert! \nBei freiem Eintritt zeigt Kino im Garten ein Doppelpack zweier recht unterschiedlicher spannender Werke heimischer Filmschaffender plus anschließendem Gartengespräch mit den Regisseuren! \nDie Geschichte des Grazer Stadtderbys beginnt im Jahr 1920 und endet vorläufig im Jahr 2007. “Geliebter Feind” berichtet von schrecklichen Niederlagen und großen Triumphen. In exklusiven Interviews mit Betreuern\, Fans und Kickern rollt Regisseur Markus Mörth ein wichtiges Kapitel österreichischer Fußballgeschichte auf.  \n“Geliebter Feind”\, ein Wiedersehen mit den schönsten Toren\, gröbsten Schnitzern und ergreifendsten Momenten einer 87 Jahre dauernden Rivalität. \n“Mörths Film feiert (…) jene Zeit der Unschuld\, in der Geld zwar eine\, aber keine destruktive Rolle spielte; in der man Spieler beim Spielen zusehen konnte\, ohne mit dem Taschenrechner im Kopf kalkulieren zu müssen\, wie lange sie noch bezahlt werden. Auch diese Zeit ist vorbei. Dass Mörth sie vermisst\, macht seine Doku zu einem Film der Stunde” (Falter 48/08) \nKino-Dokumentarfilm | 2008 | 97 Min. | deutsch\, steirisch | Digibeta | Farbe \nREGIE : Markus Mörth \nPRODUKTION: Michael Mikula\, Alfred Schwarzenberger \nRECHERCHE\, BUCH: Markus Mörth\, Wolfgang Kühnelt \nMit UNTERSTÜTZUNG von * G & K Filmproduktion * Leykam-Verlag * Pretty Commercial \nWWW.GELIEBTERFEIND.AT
URL:https://kulturingraz.mur.at/event/geliebter-feind/
LOCATION:Kultur in Graz\, Lagergasse 98A\, Graz\, 8020
CATEGORIES:Film
ATTACH;FMTTYPE=image/jpeg:https://kulturingraz.mur.at/wp-content/uploads/2018/04/geliebterfeind_web_kig.jpg
ORGANIZER;CN="Kultur%20in%20Graz":MAILTO:office@kig.mur.at
END:VEVENT
END:VCALENDAR