BEGIN:VCALENDAR
VERSION:2.0
PRODID:-//KiG! - ECPv5.8.1//NONSGML v1.0//EN
CALSCALE:GREGORIAN
METHOD:PUBLISH
X-WR-CALNAME:KiG!
X-ORIGINAL-URL:https://kulturingraz.mur.at
X-WR-CALDESC:Veranstaltungen für KiG!
BEGIN:VTIMEZONE
TZID:Europe/Berlin
BEGIN:DAYLIGHT
TZOFFSETFROM:+0100
TZOFFSETTO:+0200
TZNAME:CEST
DTSTART:20170326T010000
END:DAYLIGHT
BEGIN:STANDARD
TZOFFSETFROM:+0200
TZOFFSETTO:+0100
TZNAME:CET
DTSTART:20171029T010000
END:STANDARD
END:VTIMEZONE
BEGIN:VEVENT
DTSTART;TZID=Europe/Berlin:20170629T153000
DTEND;TZID=Europe/Berlin:20170629T170000
DTSTAMP:20260419T173759
CREATED:20170517T112303Z
LAST-MODIFIED:20180406T083322Z
UID:770-1498750200-1498755600@kulturingraz.mur.at
SUMMARY:Gebärdetheater Workshop
DESCRIPTION:Gebärdetheater Workshop  \nbasierend auf den Themen in Carthage/Cartagena \nLinguistische Idee   \nGebärdensprache\, im besonderen die Internationale Gebärdensprache\, wird kombiniert mit kreativem Erzählen einer Geschichte. \nDie Teilnehmer/Innen entwickeln ein kleines Stück\, eine kurze Geschichte\, basierend auf den Themen von Carthage/Cartagena geschrieben von Caridad Svich. \nSpaß und Entdeckung – Der Workshop ist für Jede/Jeden geeignet und eine wunderbare Möglichkeit nonverbale Kommunikation zu erforschen.  \nvon Signdance Collective International \nhttps://www.signdancecollectiveinternational.com/ \nSign story telling workshops  \nbased on the themes of Carthage/Cartagena \n​​Lingustic idea   \nSign Language\, in particular international sign\, combined with creative and group story telling. \nParticipants develop stories and small pieces based on the themes of Carthage/Cartagena by Caridad Svich.  \nFun and revealing – The workshop is for everyone and are a great way to explore non-verbal communication. \n by Signdance Collective International \nhttps://www.signdancecollectiveinternational.com/ \n\n    \n        \n            \n                \n                \n                \n                \n                \n                \n                \n                \n                \n                \n                \n                \n                \n            \n        \n        \n    \n \nBildrechte/copyright Ⓒ: Diashow: sharing is caring
URL:https://kulturingraz.mur.at/event/gebaerdetheater-workshop/
LOCATION:Kultur in Graz\, Saal 3\, Lagergasse 98A\, Graz\, 8020
CATEGORIES:Aktion und Performance,Archiv und Dokumentation
ATTACH;FMTTYPE=image/jpeg:https://kulturingraz.mur.at/wp-content/uploads/2017/04/signdance_1.jpg
ORGANIZER;CN="Kultur%20in%20Graz":MAILTO:office@kig.mur.at
END:VEVENT
END:VCALENDAR