BEGIN:VCALENDAR
VERSION:2.0
PRODID:-//KiG! - ECPv5.8.1//NONSGML v1.0//EN
CALSCALE:GREGORIAN
METHOD:PUBLISH
X-WR-CALNAME:KiG!
X-ORIGINAL-URL:https://kulturingraz.mur.at
X-WR-CALDESC:Veranstaltungen für KiG!
BEGIN:VTIMEZONE
TZID:Europe/Berlin
BEGIN:DAYLIGHT
TZOFFSETFROM:+0100
TZOFFSETTO:+0200
TZNAME:CEST
DTSTART:20070325T010000
END:DAYLIGHT
BEGIN:STANDARD
TZOFFSETFROM:+0200
TZOFFSETTO:+0100
TZNAME:CET
DTSTART:20071028T010000
END:STANDARD
END:VTIMEZONE
BEGIN:VEVENT
DTSTART;VALUE=DATE:20071207
DTEND;VALUE=DATE:20071209
DTSTAMP:20260419T170716
CREATED:20180405T071628Z
LAST-MODIFIED:20181220T082659Z
UID:5802-1196996400-1197082799@kulturingraz.mur.at
SUMMARY:FLEXIFORM 07
DESCRIPTION:Arbeitsbeginn/Vernissage: Freitag\, 07.12.2007\, 19.00 Uhr\nArbeitsort/Ausstellungsort: kig! Feuerbachgasse 25\, 8020 Graz\nArbeitsinspektion/Ausstellungsdauer: 08.-21.12.2007\, 10.00-15.00 Uhr\nKündigung/Finissage: 21.12.2007FLEXIFORM ikonografiert\, idealisiert und ironisiert Arbeitswelten. Als\nbesonderes Service errechnet FLEXIFORM für Sie Ihren ganz persönlichen\nPensionsanspruch. \n“Identität entsteht innerhalb des gesellschaftlichen Erfahrungs- und\nTätigkeitsprozesses\, das heißt im jeweiligen Individuum als Ergebnis seiner\nBeziehungen zu diesem Prozess als Ganzem und zu anderen Individuen innerhalb\ndieses Prozesses.“ (Mead: Geist\, Identität und Gesellschaft\, 1998). \nÜbertragen auf unterschiedliche Arbeitszusammenhänge kostituiert sich die\nIdentität je nach Umfeld\, ArbeitskollegInnen\, ChefInnen\, KundInnen und\nArbeitsbedingungen stets neu. Selbst- und Fremdwahrnehmung ändern sich mit der\njeweiligen Rolle\, in der sich die Protagonistin befindet.
URL:https://kulturingraz.mur.at/event/flexiform-07/
LOCATION:Kultur in Graz\, Lagergasse 98A\, Graz\, 8020
CATEGORIES:Aktion und Performance,Ausstellung und Installation
ATTACH;FMTTYPE=image/jpeg:https://kulturingraz.mur.at/wp-content/uploads/2018/04/Bild1-1.jpg
ORGANIZER;CN="Kultur%20in%20Graz":MAILTO:office@kig.mur.at
END:VEVENT
END:VCALENDAR