BEGIN:VCALENDAR
VERSION:2.0
PRODID:-//KiG! - ECPv5.8.1//NONSGML v1.0//EN
CALSCALE:GREGORIAN
METHOD:PUBLISH
X-WR-CALNAME:KiG!
X-ORIGINAL-URL:https://kulturingraz.mur.at
X-WR-CALDESC:Veranstaltungen für KiG!
BEGIN:VTIMEZONE
TZID:Europe/Berlin
BEGIN:DAYLIGHT
TZOFFSETFROM:+0100
TZOFFSETTO:+0200
TZNAME:CEST
DTSTART:20230326T010000
END:DAYLIGHT
BEGIN:STANDARD
TZOFFSETFROM:+0200
TZOFFSETTO:+0100
TZNAME:CET
DTSTART:20231029T010000
END:STANDARD
END:VTIMEZONE
BEGIN:VEVENT
DTSTART;VALUE=DATE:20230617
DTEND;VALUE=DATE:20230620
DTSTAMP:20260419T200148
CREATED:20230605T112716Z
LAST-MODIFIED:20230616T083958Z
UID:19174-1686967200-1687139999@kulturingraz.mur.at
SUMMARY:ENJOY-FEST: Musik + interaktives Theater für Kinder + Erwachsene
DESCRIPTION:Das Kunstkollektiv Seven Circles und Oper NOW präsentieren ein breit gefächertes Programm für Kinder und Erwachsene.\nSich in immersiven Klangräumen zu verlieren oder zu interagieren und in Theaterworkshops sich auszuprobieren; die Veranstaltung findet über mehrere Etappen statt\, was Raum zum Verweilen und zwischendurch auch einfach Entspannen schafft! \n  \n≈ SAMSTAG 17.Juni:  \n14:30 Forschungsschiff Musik: Abenteuer zum miteinander Musizieren für Kinder (3-8J)\n15:30 + 16:30 Einfach nur Spielen: Theater-Workshop\n19:00 ECHOS Ensemble: Traditionelle Östliche Musik\n20:00 Feschak Orkeztra: Traditionelle Balkan Musik \n≈ SONNTAG 18.Juni: \n14:30 + 15:30 Lii – o – Lii: Mitmachkonzert mit Duo Sattuma für Kinder (3-6J)\n16:30 Straßenwandler:in: Interaktiver Kunst- und Musikraum im Freien\n19:00 Pranayama: Atem-Meditation mit Einführung in Jivata´s Traum\n19:30 Jivata´s Mandala: Performance Neue Musik\, Komposition von Yulan Yu \n  \n≈≈≈≈ Mitwirkende: \n* Forschungsschiff Musik:\nEva Zoumpouloglou (Regie\, Performance)\nAlexandra Radoulova (Musikkonzept)\nYulan Yu\, Aleksandra Skrilec\, Antonis Rouvelas (Musik\, Performance)\nAntonis Rouvelas (Licht-Design)\n \n* Einfach nur Spielen:\nLisa Rohrer\, Schauspielerin und Theatermacherin \n* ECHOS Ensemble:\nAntonis Rouvelas (Saz)\nBarbara Osei-Weiss (Schlagzeug)\nDimitri Psonis (Santur\, Schlagzeug\, Rabab)\nGökhan Arslan (Klarinette)\nSinan Samanli (Oud\, Gesang)\nVasilis Nalbantis (Trompete)\nHamza Hasan (Ney)\nYulan Yu (Guzheng) \nhttps://echos.mur.at/ \n* Feschak Orkeztra:\nGökhan Arslan (Klarinette\, Saxophon)\nVasilis Nalbantis (Trompete)\nAntonis Rouvelas (E. Gitarre)\nBenjamin Klug (Schlagzeug)\nMilica Vujadinovic (Gesang)\nTobias Weiss (Tuba)\nVladimir Vesic (Schlagzeug) \nhttps://ethnocloud.com/Feschak_Orkeztra/ \n* Lii – o – Lii:\nDuo Sattuma: Kirsi-Maj Katajamäki (Geige) und Milka Pajukallio (Klavier). Die Wurzeln der Musikerinnen sind in Finnland und ihrer Wahlheimat Wien. \nhttps://www.facebook.com/duosattuma/?locale=de_DE \n* Straßenwandler:in:\nAlexandra Radoulova (Idee\, Formatkonzept\, Improvisationskonzept\, musikalische Leitung )\nTeresa Doblinger (Choreographie\, Improvisationskonzept\, Klarinette\, Performance)\nCosima Büsing (Gesang\, Performance)\nAleksandra Skrilec (Flöte\, Performance)\nIgor Gross (Schlagzeug\, Performance)\nJason Pfiester (Horn\, Performance)\nYulan Yu (Komposition) \nhttps://www.7circles.at/strassenwandlerin/ \n* Pranayama:\nMagdalena Kraler\, Musik- und Tanzpädagogin \n* Jivata´s Mandala:\nYulan Yu (Konzept\, Komposition\, Text\, Video)\nAntonis Rouvelas (Saz\, Bouzouki)\nBarbara Osei-Weiss (Schlagzeug)\nDimitri Psonis (Lyra\, Santur)\nGökhan Arslan (Klarinette)\nSinan Samanli (Oud)\nHamza Hasan (Ney)\nVasilis Nalbantis (Trompete) \nhttps://now.mur.at/index.php/jivatasmandala/ \nEINTRITT FREI !
URL:https://kulturingraz.mur.at/event/enjoy-fest-neue-musik-interaktives-theater-fuer-kinder-erwachsene/
LOCATION:Kultur in Graz\, Lagergasse 98A\, Graz\, 8020
CATEGORIES:Festival
ATTACH;FMTTYPE=image/jpeg:https://kulturingraz.mur.at/wp-content/uploads/2023/06/öa-foto.jpg
END:VEVENT
END:VCALENDAR