BEGIN:VCALENDAR
VERSION:2.0
PRODID:-//KiG! - ECPv5.8.1//NONSGML v1.0//EN
CALSCALE:GREGORIAN
METHOD:PUBLISH
X-WR-CALNAME:KiG!
X-ORIGINAL-URL:https://kulturingraz.mur.at
X-WR-CALDESC:Veranstaltungen für KiG!
BEGIN:VTIMEZONE
TZID:Europe/Berlin
BEGIN:DAYLIGHT
TZOFFSETFROM:+0100
TZOFFSETTO:+0200
TZNAME:CEST
DTSTART:20180325T010000
END:DAYLIGHT
BEGIN:STANDARD
TZOFFSETFROM:+0200
TZOFFSETTO:+0100
TZNAME:CET
DTSTART:20181028T010000
END:STANDARD
END:VTIMEZONE
BEGIN:VEVENT
DTSTART;TZID=Europe/Berlin:20181025T180000
DTEND;TZID=Europe/Berlin:20181028T140000
DTSTAMP:20260423T211144
CREATED:20180924T124022Z
LAST-MODIFIED:20181022T093415Z
UID:7017-1540490400-1540735200@kulturingraz.mur.at
SUMMARY:Elisabeth Wehling: Die Macht der Sprachbilder – Politisches Framing und neurokognitive Kampagnenführung
DESCRIPTION:Politisches Denken ist bewusst\, rational und objektiv – dieser althergebrachten Idee sitzen bis heute viele Bürger*innen und Journalist*innen\, Meinungsforscher*innen und Politiker*innen auf. Doch die moderne Neuro- und Kognitionsforschung hat die „klassische Vernunft“ längst zu Grabe getragen.\nNicht Fakten bedingen politische Entscheidungen\, sondern kognitive Deutungsrahmen\, in der Wissenschaft Frames genannt. Sie werden über Sprache im Gehirn aktiviert und gefestigt und bestimmen\, wie wir politische Fakten wahrnehmen. \nIn der Kognitionsforschung ist man sich daher schon lange einig: Sprache ist Politik. \n\nDokumentation des Vortrages auf re:publica 2017\, https://re-publica.com/en/17/session/…\nCreative Commons Attribution-ShareAlike 3.0 Germany (CC BY-SA 3.0 DE) \nElisabeth Wehling\, Kognitionsforscherin\, http://www.elisabethwehling.com \nBildrechte/copyright Ⓒ: Wehling
URL:https://kulturingraz.mur.at/event/elisabeth-wehling-die-macht-der-sprachbilder-die-macht-der-sprachbilder-politisches-framing-republica-2017/
LOCATION:Kultur in Graz\, Lagergasse 98A\, Graz\, 8020
CATEGORIES:Ausstellung und Installation
ATTACH;FMTTYPE=image/jpeg:https://kulturingraz.mur.at/wp-content/uploads/2018/09/wehling-vortrag-re-publica-e1559749580295.jpg
ORGANIZER;CN="Kultur%20in%20Graz":MAILTO:office@kig.mur.at
END:VEVENT
END:VCALENDAR