BEGIN:VCALENDAR
VERSION:2.0
PRODID:-//KiG! - ECPv5.8.1//NONSGML v1.0//EN
CALSCALE:GREGORIAN
METHOD:PUBLISH
X-WR-CALNAME:KiG!
X-ORIGINAL-URL:https://kulturingraz.mur.at
X-WR-CALDESC:Veranstaltungen für KiG!
BEGIN:VTIMEZONE
TZID:Europe/Berlin
BEGIN:DAYLIGHT
TZOFFSETFROM:+0100
TZOFFSETTO:+0200
TZNAME:CEST
DTSTART:20160327T010000
END:DAYLIGHT
BEGIN:STANDARD
TZOFFSETFROM:+0200
TZOFFSETTO:+0100
TZNAME:CET
DTSTART:20161030T010000
END:STANDARD
END:VTIMEZONE
BEGIN:VEVENT
DTSTART;TZID=Europe/Berlin:20161105T190000
DTEND;TZID=Europe/Berlin:20161105T220000
DTSTAMP:20260424T065356
CREATED:20181128T081823Z
LAST-MODIFIED:20181128T082726Z
UID:8223-1478372400-1478383200@kulturingraz.mur.at
SUMMARY:Down Dox
DESCRIPTION:Down Dox \nFabulös und noch dazu galaktisch brillieren die in die Jahre gekommenen Teenager an einer Vielzahl halberlernter Instrumente und singen\, was die Lungen hergeben. Ratzungslos\, onitionslos und hanlos versuchen die DownDox dieser Losigkeit mit klingenden Rhythmen und fesselnden Texten zu begegnen und im Scheitern wie Phönixe aus der Asche die Bühne zu ihrem Spielplatz zu machen. Endlich sind sie da\, die DownDox: Mira\, Elena\, Martha\, Reingard\, Lie. \n 
URL:https://kulturingraz.mur.at/event/down-dox/
END:VEVENT
END:VCALENDAR