BEGIN:VCALENDAR
VERSION:2.0
PRODID:-//KiG! - ECPv5.8.1//NONSGML v1.0//EN
CALSCALE:GREGORIAN
METHOD:PUBLISH
X-WR-CALNAME:KiG!
X-ORIGINAL-URL:https://kulturingraz.mur.at
X-WR-CALDESC:Veranstaltungen für KiG!
BEGIN:VTIMEZONE
TZID:Europe/Berlin
BEGIN:DAYLIGHT
TZOFFSETFROM:+0100
TZOFFSETTO:+0200
TZNAME:CEST
DTSTART:20170326T010000
END:DAYLIGHT
BEGIN:STANDARD
TZOFFSETFROM:+0200
TZOFFSETTO:+0100
TZNAME:CET
DTSTART:20171029T010000
END:STANDARD
END:VTIMEZONE
BEGIN:VEVENT
DTSTART;TZID=Europe/Berlin:20171102T190000
DTEND;TZID=Europe/Berlin:20171102T200000
DTSTAMP:20260424T174737
CREATED:20181105T204102Z
LAST-MODIFIED:20181105T204148Z
UID:7342-1509649200-1509652800@kulturingraz.mur.at
SUMMARY:Daily Rhythms Collective
DESCRIPTION:Weapons for Peace (Workshop-Installation-Präsentation) \nWie verbessert man die Welt? Welche Instrumente und Waffen könnte man einsetzen\, um die Friedensindustrie zu fördern? DRC unterstützt diesbezügliches Wirken durch das Erforschen friedvoller und letztlich spielerischer Arten des Mikro-Widerstands im Alltagsleben. Der Fokus hierbei liegt auf der Erarbeitung und Umsetzung einer kleinen Sammlung von Gesten\, die vor alltäglicher Ungerechtigkeit\, Rassismus\, Fremdenfeindlichkeit und Sexismus schützen sollen. Als positive Verschwörer *innen nehmen wir einen aktiven Platz in der Geschichte ein\, indem wir jenen Anteil der Menschen würdigen\, die in dieser sich im Ungleichgewicht befindlichen Welt Widerstand leisten. \nKurzgeschichten und kleine Gesten dienen als Beispiele und Inspiration\, um Werkzeuge herzustellen\, die eine egalitäre Gesellschaft fördern. Wir positionieren uns gegen jegliche Art der modernen Kolonisierung\, Neo-Exploitation\, Sklaverei sowie gefestigte Arten der Diskriminierung und Voreingenommenheit. Wir fordern die ständige Aktualisierung der Positionen von Menschen in Begegnungen. Diese Methodik ist also nicht kämpferisch oder konfrontativ\, sondern ruft langsame und subtile Wege des Widerstands hervor. Im Zuge dieser Forschung wollen wir Systeme\, Objekte und Strategien erzeugen\, die bessere Wege des Zusammenlebens schaffen – in aller Vielfalt. \nWährend des Workshops werden die Künstler/innen mit der Community und den Besucher/innen zusammenarbeiten\, um einige Prototypen von Waffen zu skizzieren\, die den oben erwähnten methodischen Ansatz vermitteln. Die Entwicklungen werden Teil der In-situ-Installation\, die bereits einige Techniken enthält – Waffen des Friedens. Der Dialog über Strategien des Widerstands wird schließlich in einer Präsentation erläutert. \n\nDaily Rhythms Collective \nDas Daily Rhythms Collective ist eine von Graz aus agierende Plattform für internationale\, interdisziplinär arbeitende Künstlerinnen. In laborähnlichen Situationen werden Gemeinschaftsprojekte auf wissenschaftlicher Basis durchgeführt und künstlerische Methoden und subtile Kartografien in urbanen Räumen angewandt. \nZiel des Kollektivs ist es\, neuartige Formen des Zusammenlebens zu untersuchen und neue Schnittstellen von Gemeinschaftsräumen zu schaffen\, die den Weg zu einer starken und dauerhaften sozialen Einbindung ebnen. \nAnhand der Analyse eigener Lebenserfahrungen kommen künstlerische Methoden zur Anwendung\, um Modelle integrativer Räume auszuarbeiten. Widergespiegelt wird dies in buchstäblichem sowie übertragenem Sinn durch urbanen Raum\, der sowohl offen als auch aufgeschlossen ist.\nUm das zu tun\, nutzen die Künstlerinnen eine breite Palette an Formaten\, darunter Interventionen im öffentlichen Raum\, Workshops\, Diskurse und Runde Tische\, Geschichtsforschung und Publikationen. \nCredits: Performance  | Language has no border no nation\,\nIdee: Maryam Mohammadi | Foto: Nayari Castillo
URL:https://kulturingraz.mur.at/event/daily-rhythms-collective/
CATEGORIES:Ausstellung und Installation
END:VEVENT
END:VCALENDAR