BEGIN:VCALENDAR
VERSION:2.0
PRODID:-//KiG! - ECPv5.8.1//NONSGML v1.0//EN
CALSCALE:GREGORIAN
METHOD:PUBLISH
X-WR-CALNAME:KiG!
X-ORIGINAL-URL:https://kulturingraz.mur.at
X-WR-CALDESC:Veranstaltungen für KiG!
BEGIN:VTIMEZONE
TZID:Europe/Berlin
BEGIN:DAYLIGHT
TZOFFSETFROM:+0100
TZOFFSETTO:+0200
TZNAME:CEST
DTSTART:20210328T010000
END:DAYLIGHT
BEGIN:STANDARD
TZOFFSETFROM:+0200
TZOFFSETTO:+0100
TZNAME:CET
DTSTART:20211031T010000
END:STANDARD
END:VTIMEZONE
BEGIN:VEVENT
DTSTART;TZID=Europe/Berlin:20211128T190000
DTEND;TZID=Europe/Berlin:20211128T210000
DTSTAMP:20260419T191439
CREATED:20211110T131457Z
LAST-MODIFIED:20250806T174451Z
UID:17645-1638126000-1638133200@kulturingraz.mur.at
SUMMARY:ABGESAGT! BONES AND FRAGMENTS
DESCRIPTION:“Die Reinheit wird so leicht von auffälligen\, schmutzigen Dingen überschattet\, weshalb ich mich entschieden habe\, dieses stille\, unprätentiöse\, liebevolle Blümchen ganz vorne ins Arrangement zu setzen” erklärte lachend der verstorbene Ikebana Meister Kozo Okada aus Fukushima. Es war März 2005 als die Kirschbäume Knospen trieben und ich zum ersten Mal sein Arrangement sah – anheimelnde Simplizität und doch ehrfurchtgebietende Schönheit. Das war der Moment\, in dem Musik und Blumen in mir zusammenkamen. Wenn ich an die Kunst und die Wörter von Okada-Sensei rückrufe\, muss ich an die wohlwollende Natur der menschlichen Seele denken. Um Dankbarkeit gegenüber Leuten wie ihm auszudrücken\, die einen Hoffnungsstrahl hinterließen\, um die trostlose Zukunft aufzuhellen\, und um deren Leben durch Musik zu ehren\, möchte ich diese Werke der Zukunft widmen”.\nKeyko Harada \n  \nMusik  KEYKO HARADA \nAkkordeon  MARIA MOGAS GENSANA \nKlavier  ALEXANDRA RADOULOVA \nVisuelle Kunst  VIOLETA LENZ \n  \nhttp://www.7circles.at/bones-and-fragments/
URL:https://kulturingraz.mur.at/event/bones-and-fragments/
LOCATION:Kultur in Graz\, Saal 3\, Lagergasse 98A\, Graz\, 8020
CATEGORIES:Musik,Performance
ATTACH;FMTTYPE=image/jpeg:https://kulturingraz.mur.at/wp-content/uploads/2021/11/Seven-CIrcles2.jpg
ORGANIZER;CN="7circles":MAILTO:radoulova.alexandra@gmail.com
END:VEVENT
END:VCALENDAR