BEGIN:VCALENDAR
VERSION:2.0
PRODID:-//KiG! - ECPv5.8.1//NONSGML v1.0//EN
CALSCALE:GREGORIAN
METHOD:PUBLISH
X-WR-CALNAME:KiG!
X-ORIGINAL-URL:https://kulturingraz.mur.at
X-WR-CALDESC:Veranstaltungen für KiG!
BEGIN:VTIMEZONE
TZID:Europe/Berlin
BEGIN:DAYLIGHT
TZOFFSETFROM:+0100
TZOFFSETTO:+0200
TZNAME:CEST
DTSTART:20130331T010000
END:DAYLIGHT
BEGIN:STANDARD
TZOFFSETFROM:+0200
TZOFFSETTO:+0100
TZNAME:CET
DTSTART:20131027T010000
END:STANDARD
END:VTIMEZONE
BEGIN:VEVENT
DTSTART;TZID=Europe/Berlin:20130926T180000
DTEND;TZID=Europe/Berlin:20130928T235500
DTSTAMP:20260423T130427
CREATED:20181121T085528Z
LAST-MODIFIED:20181121T085528Z
UID:7954-1380218400-1380412500@kulturingraz.mur.at
SUMMARY:B.B. versorgt Sie mit Liebe [Österreichischer Zigeuner]
DESCRIPTION:Fremder\, Reisender\, Suchender – erfüllt sich seinen Kindheitswunsch und kocht für andere: einfach aber einfallsreich – heimisch und dennoch fremdartig – mit Herz und Seele – mit Liebe zu den Früchten dieser Erde und zu allem rund ums Essen….
URL:https://kulturingraz.mur.at/event/b-b-versorgt-sie-mit-liebe-oesterreichischer-zigeuner/
CATEGORIES:Ausstellung und Installation
END:VEVENT
END:VCALENDAR