BEGIN:VCALENDAR
VERSION:2.0
PRODID:-//KiG! - ECPv5.8.1//NONSGML v1.0//EN
CALSCALE:GREGORIAN
METHOD:PUBLISH
X-WR-CALNAME:KiG!
X-ORIGINAL-URL:https://kulturingraz.mur.at
X-WR-CALDESC:Veranstaltungen für KiG!
BEGIN:VTIMEZONE
TZID:Europe/Berlin
BEGIN:DAYLIGHT
TZOFFSETFROM:+0100
TZOFFSETTO:+0200
TZNAME:CEST
DTSTART:20180325T010000
END:DAYLIGHT
BEGIN:STANDARD
TZOFFSETFROM:+0200
TZOFFSETTO:+0100
TZNAME:CET
DTSTART:20181028T010000
END:STANDARD
END:VTIMEZONE
BEGIN:VEVENT
DTSTART;TZID=Europe/Berlin:20181025T180000
DTEND;TZID=Europe/Berlin:20181028T140000
DTSTAMP:20260423T144908
CREATED:20181001T103344Z
LAST-MODIFIED:20181024T134329Z
UID:7118-1540490400-1540735200@kulturingraz.mur.at
SUMMARY:Ada Kobusiewicz: Bewegung der Wörter
DESCRIPTION:kinetic object (Graz\, 2018)\ntypewriter\, motors\nhttps://vimeo.com/262288786 \n\nDas Wort “Wegerl” (ugs. für Pfad)\, geschrieben von einer Schreibmaschine\, knüpft an verbale Kommunikation an. Das Werk interpretiert eine Diversität von Wörtern und Sprachen und verweist auf deren befreiende Revolutionen im Raum-Zeit Kontinuum. \nA word ’’Wegerl’’ (Pathway) written by typewriter corresponds to verbal communications. The piece interprets the diversity of words and languages and their liberated revolutions in the space-time continuum. \n\nAda Kobusiewicz lebt und arbeitet als freischaffende Künstlerin in Österreich und Polen. Sie arbeitet als Medien- und Installationskünstlerin mit analogen und digitalen Medien. In ihrer künstlerischen Praxis bewegt sie sich zwischen Forschung\, Wissenschaft\, dem Experimentellen und dem Authentischen. Ihre Arbeiten neigen dazu\, sich auf verwahrloste Umgebungen\, vergängliche Räume und die Beziehung zwischen Bewussten und Unbewussten und seiner individuellen und kollektiven Erklärung zu fokussieren. Sie arbeitet mit ortsspezifischen Umgebungen unter ungewöhnlich authentischen Umständen. Kobusiewicz‘s Arbeiten schlagen eine Brücke zwischen Video\, Installation\, kinetischer Kunst\, Objektkunst und Performance. Ihre künstlerische Grundlage bilden primär Raum\, Bewegung\, Körper und Licht. Für Kobusiewicz verstärkt das Licht die Dimensionen des Raumes. Im kreativen Prozess ist das primäre Element für Kobusiewicz die Arbeit in eine Bewegung zu überführen oder zur Bewegung werden zu lassen. Kinetische Bilder sind die Inspiration für ihre Arbeiten.\nSie wurde in Polen geboren. 2004 zog sie nach Spanien wo sie an der Universität von Granada\, an der Fakultät für Philosophie und Kunst studierte\, und am andalusischen Instiut für Kunst verschiedene Kurse zu Lichtdesign absolvierte. 2012 schloss sie ihr Masterstudium in Kunst\, Forschung und Produktion an der Akademie der Künste in Granada ab und 2014 ihr Masterstudium in Lichtdesign\, an der Akademie der bildenen Künste in Novi Sad (Serbien). Seit April 2017 ist Kobusiewicz Forscherin für das PhD Programm „Forschung in der Kunst“ an der baskischen Kunst Universität in Spanien. Sie stellte aus in Österreich\, Spanien\, Serbien\, Italien\, Kroatien\, BIH\, Finnland\, Dänemark und Grpßbritannien und ihre Arbeiten wurden auf Festivals in den USA\, Schweden\, England\, Österreich\, Serbien\, Frankreich\, Portugal\, Deutschland\, Mexiko\, Spanien\, Griechenland\, Südkorea\, Russland und in anderen Ländern\, gezeigt. \nWebsite der Künstlerin: http://adakobusiewicz.com/ \n 
URL:https://kulturingraz.mur.at/event/ada-kobusiewicz-bewegung-der-woerter/
LOCATION:Kultur in Graz\, Lagergasse 98A\, Graz\, 8020
CATEGORIES:Ausstellung und Installation
ORGANIZER;CN="Kultur%20in%20Graz":MAILTO:office@kig.mur.at
END:VEVENT
END:VCALENDAR